BEGIN:VCALENDAR
VERSION:2.0
PRODID:-//ChamberMaster//Event Calendar 2.0//EN
METHOD:PUBLISH
X-PUBLISHED-TTL:P3D
REFRESH-INTERVAL:P3D
CALSCALE:GREGORIAN
BEGIN:VEVENT
DTSTART:20260423T160000Z
DTEND:20260423T170000Z
X-MICROSOFT-CDO-ALLDAYEVENT:FALSE
SUMMARY:Ribbon Cutting for Phoenix Express - Sherwood
DESCRIPTION:Come welcome this exciting new neighborhood gas station to our community and enjoy some great company\, and networking\, welcoming them to the Sherwood community! \n\n\n\nAbout Phoenix Express:\n\nPhoenix Express is a neighborhood gas station and convenience store that is located off Hwy 107 and Kellogg Acres.\n\n\n\nWe look forward to seeing you there!
X-ALT-DESC;FMTTYPE=text/html:<p data-end="412" data-start="286">Come welcome this exciting new neighborhood gas station&nbsp\;to our community and enjoy some great company\, and networking\, welcoming them to the Sherwood community!&nbsp\;<br />\n<br />\n<strong data-end="444" data-start="416">About Phoenix Express:</strong><br data-end="447" data-start="444" />\nPhoenix Express is a neighborhood gas station and convenience store that is located off Hwy 107 and Kellogg Acres.<br />\n<br />\nWe look forward to seeing you there!<br />\n<br />\n&nbsp\;</p>\n
LOCATION:10801 Hwy 107 Sherwood\, AR 72120
UID:e.3435.5916
SEQUENCE:3
DTSTAMP:20260421T173412Z
URL:http://business.sherwoodchamber.net/events/details/ribbon-cutting-for-phoenix-express-sherwood-5916
END:VEVENT

END:VCALENDAR
