BEGIN:VCALENDAR
VERSION:2.0
PRODID:-//ChamberMaster//Event Calendar 2.0//EN
METHOD:PUBLISH
X-PUBLISHED-TTL:P3D
REFRESH-INTERVAL:P3D
CALSCALE:GREGORIAN
BEGIN:VEVENT
DTSTART:20260506T150000Z
DTEND:20260506T160000Z
X-MICROSOFT-CDO-ALLDAYEVENT:FALSE
SUMMARY:Ribbon Cutting for Natural Development Learning Center
DESCRIPTION:Join us as we celebrate a new local business with a Ribbon Cutting for Natural Development Learning Center! \nTheir Mission: \n\n"At The Natural Development Learning Center\, it is our mission to provide a safe\, interactive\, and fun learning environment for children and caregivers that encourages children to foster their own learning with activities and experiences that include literacy\, math\, science\, art\, music\, as well as social-emotional learning. Our space provides a one-of-a-kind environment for children to explore learning while being guided by master educators Michelle Walls and Susan Hall. In today's busy world\, oftentimes children are not getting the kinesthetic\, fine motor\, and natural exploration that is developmentally essential for children to thrive and feel confident in their learning abilities." \n\n\n\nCome help us welcome them to the Sherwood business community\, meet the owners\, connect with fellow Chamber members\, and show your support for this new Learning Center. \n\nWe hope to see you there as we cut the ribbon and celebrate together.
X-ALT-DESC;FMTTYPE=text/html:Join us as we celebrate a new local business with a Ribbon Cutting for Natural Development Learning Center!&nbsp\;\n<p data-end="474" data-start="122"><u>Their Mission</u>:&nbsp\;<br />\n&quot\;<em>At The Natural Development Learning Center\, it is our mission to provide a safe\, interactive\, and fun learning environment for children and caregivers that encourages children to foster their own learning with activities and experiences that include literacy\, math\, science\, art\, music\, as well as social-emotional learning. Our space provides a one-of-a-kind environment for children to explore learning while being guided by master educators Michelle Walls and Susan Hall. In today&#39\;s busy world\, oftentimes children are not getting the kinesthetic\, fine motor\, and natural exploration that is developmentally essential for children to thrive and feel confident in their learning abilities.</em>&quot\;&nbsp\;<br />\n<br />\nCome help us welcome them to the Sherwood business community\, meet the owners\, connect with fellow Chamber members\, and show your support for this new Learning Center.&nbsp\;</p>\n\n<p data-end="812" data-start="743">We hope to see you there as we cut the ribbon and celebrate together.</p>\n
LOCATION:8206 Hwy 107 Sherwood\, AR 72120
UID:e.3435.5917
SEQUENCE:3
DTSTAMP:20260422T000931Z
URL:http://business.sherwoodchamber.net/events/details/ribbon-cutting-for-natural-development-learning-center-5917
END:VEVENT

END:VCALENDAR
