BEGIN:VCALENDAR
VERSION:2.0
PRODID:-//ChamberMaster//Event Calendar 2.0//EN
METHOD:PUBLISH
X-PUBLISHED-TTL:P3D
REFRESH-INTERVAL:P3D
CALSCALE:GREGORIAN
BEGIN:VEVENT
DTSTART:20240504T190000Z
DTEND:20240504T220000Z
X-MICROSOFT-CDO-ALLDAYEVENT:FALSE
SUMMARY:DREAMFEST GRAND OPENING
DESCRIPTION:FREE RIDES\, FOOD TRUCKS\, FACE PAINTING\, FACILITY TOUR...FUN FOR THE WHOLE FAMILY!
X-ALT-DESC;FMTTYPE=text/html:FREE RIDES\, FOOD TRUCKS\, FACE PAINTING\, FACILITY TOUR...FUN FOR THE WHOLE FAMILY!
LOCATION:DREAM EARLY CHILDHOOD & AFTER SCHOOL ACADEMY 8324 HWY 107 SHERWOOD AR 72120
UID:e.3435.5412
SEQUENCE:3
DTSTAMP:20260420T233749Z
URL:http://business.sherwoodchamber.net/events/details/dreamfest-grand-opening-5412
END:VEVENT

END:VCALENDAR
