BEGIN:VCALENDAR
VERSION:2.0
PRODID:-//ChamberMaster//Event Calendar 2.0//EN
METHOD:PUBLISH
X-PUBLISHED-TTL:P3D
REFRESH-INTERVAL:P3D
CALSCALE:GREGORIAN
BEGIN:VEVENT
DTSTART:20240910T130000Z
DTEND:20240910T140000Z
X-MICROSOFT-CDO-ALLDAYEVENT:FALSE
SUMMARY:Ambassadors Meeting
DESCRIPTION:Ambassadors Meeting
X-ALT-DESC;FMTTYPE=text/html:Ambassadors Meeting<br />\n<br />\n&nbsp\;
LOCATION:Sherwood Chamber of Commerce
UID:e.3435.4526
SEQUENCE:3
DTSTAMP:20260419T134537Z
URL:http://business.sherwoodchamber.net/events/details/ambassadors-meeting-09-10-2024-4526
END:VEVENT

END:VCALENDAR
